BEGIN:VCALENDAR
VERSION:2.0
PRODID:-// - ECPv6.15.20//NONSGML v1.0//EN
CALSCALE:GREGORIAN
METHOD:PUBLISH
X-ORIGINAL-URL:https://douglascountyhistoricalsociety.org
X-WR-CALDESC:Events for 
REFRESH-INTERVAL;VALUE=DURATION:PT1H
X-Robots-Tag:noindex
X-PUBLISHED-TTL:PT1H
BEGIN:VTIMEZONE
TZID:America/Los_Angeles
BEGIN:DAYLIGHT
TZOFFSETFROM:-0800
TZOFFSETTO:-0700
TZNAME:PDT
DTSTART:20220313T100000
END:DAYLIGHT
BEGIN:STANDARD
TZOFFSETFROM:-0700
TZOFFSETTO:-0800
TZNAME:PST
DTSTART:20221106T090000
END:STANDARD
BEGIN:DAYLIGHT
TZOFFSETFROM:-0800
TZOFFSETTO:-0700
TZNAME:PDT
DTSTART:20230312T100000
END:DAYLIGHT
BEGIN:STANDARD
TZOFFSETFROM:-0700
TZOFFSETTO:-0800
TZNAME:PST
DTSTART:20231105T090000
END:STANDARD
BEGIN:DAYLIGHT
TZOFFSETFROM:-0800
TZOFFSETTO:-0700
TZNAME:PDT
DTSTART:20240310T100000
END:DAYLIGHT
BEGIN:STANDARD
TZOFFSETFROM:-0700
TZOFFSETTO:-0800
TZNAME:PST
DTSTART:20241103T090000
END:STANDARD
END:VTIMEZONE
BEGIN:VEVENT
DTSTART;TZID=America/Los_Angeles:20230924T130000
DTEND;TZID=America/Los_Angeles:20230924T160000
DTSTAMP:20260423T092611
CREATED:20230522T224156Z
LAST-MODIFIED:20230522T224156Z
UID:2248-1695560400-1695571200@douglascountyhistoricalsociety.org
SUMMARY:Museum Closed; No Docent
DESCRIPTION:
URL:https://douglascountyhistoricalsociety.org/event/museum-closed-no-docent-13
END:VEVENT
BEGIN:VEVENT
DTSTART;TZID=America/Los_Angeles:20230917T130000
DTEND;TZID=America/Los_Angeles:20230917T160000
DTSTAMP:20260423T092611
CREATED:20230522T224142Z
LAST-MODIFIED:20230522T224142Z
UID:2246-1694955600-1694966400@douglascountyhistoricalsociety.org
SUMMARY:Museum Closed; No Docent
DESCRIPTION:
URL:https://douglascountyhistoricalsociety.org/event/museum-closed-no-docent-12
END:VEVENT
BEGIN:VEVENT
DTSTART;TZID=America/Los_Angeles:20230910T130000
DTEND;TZID=America/Los_Angeles:20230910T160000
DTSTAMP:20260423T092611
CREATED:20230825T014113Z
LAST-MODIFIED:20230825T014918Z
UID:2437-1694350800-1694361600@douglascountyhistoricalsociety.org
SUMMARY:Annual Membership Meeting
DESCRIPTION:
URL:https://douglascountyhistoricalsociety.org/event/annual-membership-meeting
ATTACH;FMTTYPE=image/jpeg:https://douglascountyhistoricalsociety.org/wp-content/uploads/2023/08/‎2023-Save-the-Date-Sep-Mtg.‎1.jpeg
END:VEVENT
BEGIN:VEVENT
DTSTART;TZID=America/Los_Angeles:20230910T130000
DTEND;TZID=America/Los_Angeles:20230910T160000
DTSTAMP:20260423T092611
CREATED:20230825T013831Z
LAST-MODIFIED:20230825T013832Z
UID:2434-1694350800-1694361600@douglascountyhistoricalsociety.org
SUMMARY:
DESCRIPTION:Annual Membership Meeting
URL:https://douglascountyhistoricalsociety.org/event/2434
ATTACH;FMTTYPE=application/pdf:https://douglascountyhistoricalsociety.org/wp-content/uploads/2023/08/2023-Save-the-Date-Sep-Mtg-1.pdf
END:VEVENT
BEGIN:VEVENT
DTSTART;TZID=America/Los_Angeles:20230910T130000
DTEND;TZID=America/Los_Angeles:20230910T160000
DTSTAMP:20260423T092611
CREATED:20230522T223328Z
LAST-MODIFIED:20230522T223328Z
UID:2218-1694350800-1694361600@douglascountyhistoricalsociety.org
SUMMARY:Open House
DESCRIPTION:
URL:https://douglascountyhistoricalsociety.org/event/open-house-12
END:VEVENT
BEGIN:VEVENT
DTSTART;TZID=America/Los_Angeles:20230903T130000
DTEND;TZID=America/Los_Angeles:20230903T160000
DTSTAMP:20260423T092611
CREATED:20230522T224125Z
LAST-MODIFIED:20230522T224126Z
UID:2244-1693746000-1693756800@douglascountyhistoricalsociety.org
SUMMARY:Museum Closed; No Docent
DESCRIPTION:
URL:https://douglascountyhistoricalsociety.org/event/museum-closed-no-docent-11
END:VEVENT
BEGIN:VEVENT
DTSTART;TZID=America/Los_Angeles:20230827T130000
DTEND;TZID=America/Los_Angeles:20230827T160000
DTSTAMP:20260423T092611
CREATED:20230522T224108Z
LAST-MODIFIED:20230522T224108Z
UID:2242-1693141200-1693152000@douglascountyhistoricalsociety.org
SUMMARY:Museum Closed; No Docent
DESCRIPTION:
URL:https://douglascountyhistoricalsociety.org/event/museum-closed-no-docent-10
END:VEVENT
BEGIN:VEVENT
DTSTART;TZID=America/Los_Angeles:20230820T130000
DTEND;TZID=America/Los_Angeles:20230820T160000
DTSTAMP:20260423T092611
CREATED:20230522T224048Z
LAST-MODIFIED:20230522T224048Z
UID:2240-1692536400-1692547200@douglascountyhistoricalsociety.org
SUMMARY:Museum Closed; No Docent
DESCRIPTION:
URL:https://douglascountyhistoricalsociety.org/event/museum-closed-no-docent-9
END:VEVENT
BEGIN:VEVENT
DTSTART;TZID=America/Los_Angeles:20230813T130000
DTEND;TZID=America/Los_Angeles:20230813T160000
DTSTAMP:20260423T092611
CREATED:20230522T223107Z
LAST-MODIFIED:20230522T223251Z
UID:2211-1691931600-1691942400@douglascountyhistoricalsociety.org
SUMMARY:Open House
DESCRIPTION:
URL:https://douglascountyhistoricalsociety.org/event/open-house-11
END:VEVENT
BEGIN:VEVENT
DTSTART;TZID=America/Los_Angeles:20230806T130000
DTEND;TZID=America/Los_Angeles:20230806T160000
DTSTAMP:20260423T092611
CREATED:20230522T224023Z
LAST-MODIFIED:20230522T224024Z
UID:2238-1691326800-1691337600@douglascountyhistoricalsociety.org
SUMMARY:Museum Closed; No Docent
DESCRIPTION:
URL:https://douglascountyhistoricalsociety.org/event/museum-closed-no-docent-8
END:VEVENT
BEGIN:VEVENT
DTSTART;TZID=America/Los_Angeles:20230730T130000
DTEND;TZID=America/Los_Angeles:20230730T160000
DTSTAMP:20260423T092611
CREATED:20230522T223952Z
LAST-MODIFIED:20230522T223952Z
UID:2236-1690722000-1690732800@douglascountyhistoricalsociety.org
SUMMARY:Museum Closed; No Docent
DESCRIPTION:
URL:https://douglascountyhistoricalsociety.org/event/museum-closed-no-docent-7
END:VEVENT
BEGIN:VEVENT
DTSTART;TZID=America/Los_Angeles:20230723T130000
DTEND;TZID=America/Los_Angeles:20230723T160000
DTSTAMP:20260423T092611
CREATED:20230522T223934Z
LAST-MODIFIED:20230522T223934Z
UID:2234-1690117200-1690128000@douglascountyhistoricalsociety.org
SUMMARY:Museum Closed; No Docent
DESCRIPTION:
URL:https://douglascountyhistoricalsociety.org/event/museum-closed-no-docent-6
END:VEVENT
BEGIN:VEVENT
DTSTART;TZID=America/Los_Angeles:20230716T130000
DTEND;TZID=America/Los_Angeles:20230716T160000
DTSTAMP:20260423T092611
CREATED:20230522T223912Z
LAST-MODIFIED:20230522T223912Z
UID:2232-1689512400-1689523200@douglascountyhistoricalsociety.org
SUMMARY:Museum Closed; No Docent
DESCRIPTION:
URL:https://douglascountyhistoricalsociety.org/event/museum-closed-no-docent-5
END:VEVENT
BEGIN:VEVENT
DTSTART;TZID=America/Los_Angeles:20230709T130000
DTEND;TZID=America/Los_Angeles:20230709T160000
DTSTAMP:20260423T092611
CREATED:20230522T223155Z
LAST-MODIFIED:20230522T223353Z
UID:2213-1688907600-1688918400@douglascountyhistoricalsociety.org
SUMMARY:Open House
DESCRIPTION:
URL:https://douglascountyhistoricalsociety.org/event/2213
END:VEVENT
BEGIN:VEVENT
DTSTART;TZID=America/Los_Angeles:20230702T130000
DTEND;TZID=America/Los_Angeles:20230702T160000
DTSTAMP:20260423T092611
CREATED:20230522T223843Z
LAST-MODIFIED:20230522T223843Z
UID:2229-1688302800-1688313600@douglascountyhistoricalsociety.org
SUMMARY:Museum Closed; No Docent
DESCRIPTION:
URL:https://douglascountyhistoricalsociety.org/event/museum-closed-no-docent-4
END:VEVENT
BEGIN:VEVENT
DTSTART;TZID=America/Los_Angeles:20230625T130000
DTEND;TZID=America/Los_Angeles:20230625T160000
DTSTAMP:20260423T092611
CREATED:20230522T223747Z
LAST-MODIFIED:20230522T223748Z
UID:2226-1687698000-1687708800@douglascountyhistoricalsociety.org
SUMMARY:Museum Closed; No Docent
DESCRIPTION:
URL:https://douglascountyhistoricalsociety.org/event/museum-closed-no-docent-3
END:VEVENT
BEGIN:VEVENT
DTSTART;TZID=America/Los_Angeles:20230618T130000
DTEND;TZID=America/Los_Angeles:20230618T160000
DTSTAMP:20260423T092611
CREATED:20230522T223728Z
LAST-MODIFIED:20230522T223729Z
UID:2224-1687093200-1687104000@douglascountyhistoricalsociety.org
SUMMARY:Museum Closed; No Docent
DESCRIPTION:
URL:https://douglascountyhistoricalsociety.org/event/museum-closed-no-docent-2
END:VEVENT
BEGIN:VEVENT
DTSTART;TZID=America/Los_Angeles:20230611T130000
DTEND;TZID=America/Los_Angeles:20230611T160000
DTSTAMP:20260423T092611
CREATED:20230522T223000Z
LAST-MODIFIED:20230603T212643Z
UID:2209-1686488400-1686499200@douglascountyhistoricalsociety.org
SUMMARY:Museum Closed\, No Docent
DESCRIPTION:
URL:https://douglascountyhistoricalsociety.org/event/open-house-10
END:VEVENT
BEGIN:VEVENT
DTSTART;TZID=America/Los_Angeles:20230610T090000
DTEND;TZID=America/Los_Angeles:20230610T170000
DTSTAMP:20260423T092611
CREATED:20230603T212525Z
LAST-MODIFIED:20230603T212526Z
UID:2255-1686387600-1686416400@douglascountyhistoricalsociety.org
SUMMARY:Open House
DESCRIPTION:House open 9-5\, June 10th for the LWVUV Annual Garden tour. Ticket required for entry”
URL:https://douglascountyhistoricalsociety.org/event/open-house-13
END:VEVENT
BEGIN:VEVENT
DTSTART;TZID=America/Los_Angeles:20230604T130000
DTEND;TZID=America/Los_Angeles:20230604T160000
DTSTAMP:20260423T092611
CREATED:20230522T223531Z
LAST-MODIFIED:20230603T212247Z
UID:2221-1685883600-1685894400@douglascountyhistoricalsociety.org
SUMMARY:Museum Open Today
DESCRIPTION:
URL:https://douglascountyhistoricalsociety.org/event/museum-closed-no-docent
END:VEVENT
BEGIN:VEVENT
DTSTART;TZID=America/Los_Angeles:20230326T130000
DTEND;TZID=America/Los_Angeles:20230326T160000
DTSTAMP:20260423T092611
CREATED:20230218T185418Z
LAST-MODIFIED:20230218T185418Z
UID:1933-1679835600-1679846400@douglascountyhistoricalsociety.org
SUMMARY:Open House
DESCRIPTION:
URL:https://douglascountyhistoricalsociety.org/event/open-house-9
END:VEVENT
BEGIN:VEVENT
DTSTART;TZID=America/Los_Angeles:20230319T130000
DTEND;TZID=America/Los_Angeles:20230319T160000
DTSTAMP:20260423T092611
CREATED:20230218T185351Z
LAST-MODIFIED:20230218T185351Z
UID:1931-1679230800-1679241600@douglascountyhistoricalsociety.org
SUMMARY:Open House
DESCRIPTION:
URL:https://douglascountyhistoricalsociety.org/event/open-house-8
END:VEVENT
BEGIN:VEVENT
DTSTART;TZID=America/Los_Angeles:20230312T130000
DTEND;TZID=America/Los_Angeles:20230312T160000
DTSTAMP:20260423T092611
CREATED:20230218T185322Z
LAST-MODIFIED:20230218T185323Z
UID:1929-1678626000-1678636800@douglascountyhistoricalsociety.org
SUMMARY:Open House
DESCRIPTION:
URL:https://douglascountyhistoricalsociety.org/event/open-house-7
END:VEVENT
BEGIN:VEVENT
DTSTART;TZID=America/Los_Angeles:20230305T130000
DTEND;TZID=America/Los_Angeles:20230305T160000
DTSTAMP:20260423T092611
CREATED:20230218T185255Z
LAST-MODIFIED:20230218T185256Z
UID:1927-1678021200-1678032000@douglascountyhistoricalsociety.org
SUMMARY:Open House
DESCRIPTION:
URL:https://douglascountyhistoricalsociety.org/event/open-house-6
END:VEVENT
BEGIN:VEVENT
DTSTART;TZID=America/Los_Angeles:20230226T130000
DTEND;TZID=America/Los_Angeles:20230226T160000
DTSTAMP:20260423T092611
CREATED:20230218T185207Z
LAST-MODIFIED:20230218T185208Z
UID:1925-1677416400-1677427200@douglascountyhistoricalsociety.org
SUMMARY:Open House
DESCRIPTION:
URL:https://douglascountyhistoricalsociety.org/event/open-house-5
END:VEVENT
BEGIN:VEVENT
DTSTART;TZID=America/Los_Angeles:20230219T130000
DTEND;TZID=America/Los_Angeles:20230219T160000
DTSTAMP:20260423T092611
CREATED:20230218T185055Z
LAST-MODIFIED:20230218T185056Z
UID:1923-1676811600-1676822400@douglascountyhistoricalsociety.org
SUMMARY:Open house
DESCRIPTION:
URL:https://douglascountyhistoricalsociety.org/event/open-house-4
END:VEVENT
BEGIN:VEVENT
DTSTART;TZID=America/Los_Angeles:20230218T080000
DTEND;TZID=America/Los_Angeles:20230218T170000
DTSTAMP:20260423T092611
CREATED:20230218T193228Z
LAST-MODIFIED:20230218T193228Z
UID:1941-1676707200-1676739600@douglascountyhistoricalsociety.org
SUMMARY:LWVUV Annual Garden Tour
DESCRIPTION:Tour the Gardens
URL:https://douglascountyhistoricalsociety.org/event/lwvuv-annual-garden-tour
ATTACH;FMTTYPE=image/jpeg:https://douglascountyhistoricalsociety.org/wp-content/uploads/2022/11/Local-Collaboration.jpg
END:VEVENT
BEGIN:VEVENT
DTSTART;TZID=America/Los_Angeles:20230129T130000
DTEND;TZID=America/Los_Angeles:20230129T160000
DTSTAMP:20260423T092611
CREATED:20230106T013524Z
LAST-MODIFIED:20230106T013524Z
UID:1715-1674997200-1675008000@douglascountyhistoricalsociety.org
SUMMARY:Open House
DESCRIPTION:
URL:https://douglascountyhistoricalsociety.org/event/open-house-3
END:VEVENT
BEGIN:VEVENT
DTSTART;TZID=America/Los_Angeles:20230122T130000
DTEND;TZID=America/Los_Angeles:20230122T160000
DTSTAMP:20260423T092611
CREATED:20230106T013325Z
LAST-MODIFIED:20230106T013326Z
UID:1710-1674392400-1674403200@douglascountyhistoricalsociety.org
SUMMARY:Open House
DESCRIPTION:
URL:https://douglascountyhistoricalsociety.org/event/open-house-2
END:VEVENT
BEGIN:VEVENT
DTSTART;TZID=America/Los_Angeles:20230115T130000
DTEND;TZID=America/Los_Angeles:20230115T160000
DTSTAMP:20260423T092611
CREATED:20230106T013048Z
LAST-MODIFIED:20230106T013147Z
UID:1707-1673787600-1673798400@douglascountyhistoricalsociety.org
SUMMARY:Open House
DESCRIPTION:Open House
URL:https://douglascountyhistoricalsociety.org/event/1707
END:VEVENT
END:VCALENDAR